BEGIN:VCALENDAR
VERSION:2.0
PRODID:-//Kefi Vineyards &amp; Winery - ECPv6.15.15//NONSGML v1.0//EN
CALSCALE:GREGORIAN
METHOD:PUBLISH
X-ORIGINAL-URL:https://kefiwinery.com
X-WR-CALDESC:Events for Kefi Vineyards &amp; Winery
REFRESH-INTERVAL;VALUE=DURATION:PT1H
X-Robots-Tag:noindex
X-PUBLISHED-TTL:PT1H
BEGIN:VTIMEZONE
TZID:America/New_York
BEGIN:DAYLIGHT
TZOFFSETFROM:-0500
TZOFFSETTO:-0400
TZNAME:EDT
DTSTART:20250309T070000
END:DAYLIGHT
BEGIN:STANDARD
TZOFFSETFROM:-0400
TZOFFSETTO:-0500
TZNAME:EST
DTSTART:20251102T060000
END:STANDARD
BEGIN:DAYLIGHT
TZOFFSETFROM:-0500
TZOFFSETTO:-0400
TZNAME:EDT
DTSTART:20260308T070000
END:DAYLIGHT
BEGIN:STANDARD
TZOFFSETFROM:-0400
TZOFFSETTO:-0500
TZNAME:EST
DTSTART:20261101T060000
END:STANDARD
BEGIN:DAYLIGHT
TZOFFSETFROM:-0500
TZOFFSETTO:-0400
TZNAME:EDT
DTSTART:20270314T070000
END:DAYLIGHT
BEGIN:STANDARD
TZOFFSETFROM:-0400
TZOFFSETTO:-0500
TZNAME:EST
DTSTART:20271107T060000
END:STANDARD
END:VTIMEZONE
BEGIN:VEVENT
DTSTART;TZID=America/New_York:20260306T170000
DTEND;TZID=America/New_York:20260306T210000
DTSTAMP:20260423T162622
CREATED:20260206T161346Z
LAST-MODIFIED:20260302T231902Z
UID:21478-1772816400-1772830800@kefiwinery.com
SUMMARY:Kefi Fridays!
DESCRIPTION:Kefi Fridays are here! This is our first year opening Friday nights\, and we’re turning up the fun with live music\, trivia\, karaoke\, charcuterie\, and of course—wine.  \nCome kick off your weekend\, unwind\, and make it a Friday night tradition!
URL:https://kefiwinery.com/events/kefi-fridays/
LOCATION:Kefi Estate Vineyards & Winery\, 3109 Plyler Mill Road\, Monroe\, NC\, 28112\, United States
CATEGORIES:Kefi Fridays
ATTACH;FMTTYPE=image/png:https://kefiwinery.com/wp-content/uploads/2026/02/KefiFridays.png
END:VEVENT
BEGIN:VEVENT
DTSTART;TZID=America/New_York:20260307T120000
DTEND;TZID=America/New_York:20260307T180000
DTSTAMP:20260423T162622
CREATED:20260215T194027Z
LAST-MODIFIED:20260215T194027Z
UID:21513-1772884800-1772906400@kefiwinery.com
SUMMARY:Tasting Room Open 12pm-6pm
DESCRIPTION:The vines are calling… \nOur Tasting Room is open to the public with cozy indoor seating\, sunny outdoor tables\, and a porch view that overlooks the pond and vineyard. \nCome find your Kefi! \nNote: Reservations are not required. For parties of 8 or more\, please call ahead!
URL:https://kefiwinery.com/events/tasting-room-open-12pm-6pm-2/
LOCATION:Kefi Estate Vineyards & Winery\, 3109 Plyler Mill Road\, Monroe\, NC\, 28112\, United States
ORGANIZER;CN="Kefi Winery":MAILTO:contact@kefiwinery.com
END:VEVENT
BEGIN:VEVENT
DTSTART;TZID=America/New_York:20260308T120000
DTEND;TZID=America/New_York:20260308T180000
DTSTAMP:20260423T162622
CREATED:20260215T194858Z
LAST-MODIFIED:20260215T194858Z
UID:21525-1772971200-1772992800@kefiwinery.com
SUMMARY:Tasting Room Open 12pm-6pm
DESCRIPTION:The vines are calling… \nOur Tasting Room is open to the public with cozy indoor seating\, sunny outdoor tables\, and a porch view that overlooks the pond and vineyard. \nCome find your Kefi! \nNote: Reservations are not required. For parties of 8 or more\, please call ahead!
URL:https://kefiwinery.com/events/tasting-room-open-12pm-6pm-8/
LOCATION:Kefi Estate Vineyards & Winery\, 3109 Plyler Mill Road\, Monroe\, NC\, 28112\, United States
ORGANIZER;CN="Kefi Winery":MAILTO:contact@kefiwinery.com
END:VEVENT
BEGIN:VEVENT
DTSTART;TZID=America/New_York:20260313T170000
DTEND;TZID=America/New_York:20260313T210000
DTSTAMP:20260423T162622
CREATED:20260209T194432Z
LAST-MODIFIED:20260302T222347Z
UID:21497-1773421200-1773435600@kefiwinery.com
SUMMARY:Kefi Fridays!
DESCRIPTION:Kefi Fridays are here! \nThis is our first year opening Friday nights\, and we’re turning up the fun with live music\, trivia\, karaoke\, charcuterie\, and of course—wine : ) \nCome kick off your weekend\, unwind\, and make it a Friday night tradition!
URL:https://kefiwinery.com/events/kefi-fridays-2/
LOCATION:Kefi Estate Vineyards & Winery\, 3109 Plyler Mill Road\, Monroe\, NC\, 28112\, United States
CATEGORIES:Kefi Fridays
END:VEVENT
BEGIN:VEVENT
DTSTART;TZID=America/New_York:20260314T120000
DTEND;TZID=America/New_York:20260314T180000
DTSTAMP:20260423T162622
CREATED:20260215T194342Z
LAST-MODIFIED:20260215T194342Z
UID:21515-1773489600-1773511200@kefiwinery.com
SUMMARY:Tasting Room Open 12pm-6pm
DESCRIPTION:The vines are calling… \nOur Tasting Room is open to the public with cozy indoor seating\, sunny outdoor tables\, and a porch view that overlooks the pond and vineyard. \nCome find your Kefi! \nNote: Reservations are not required. For parties of 8 or more\, please call ahead!
URL:https://kefiwinery.com/events/tasting-room-open-12pm-6pm-3/
LOCATION:Kefi Estate Vineyards & Winery\, 3109 Plyler Mill Road\, Monroe\, NC\, 28112\, United States
ORGANIZER;CN="Kefi Winery":MAILTO:contact@kefiwinery.com
END:VEVENT
BEGIN:VEVENT
DTSTART;TZID=America/New_York:20260315T120000
DTEND;TZID=America/New_York:20260315T180000
DTSTAMP:20260423T162623
CREATED:20260215T194951Z
LAST-MODIFIED:20260215T194951Z
UID:21527-1773576000-1773597600@kefiwinery.com
SUMMARY:Tasting Room Open 12pm-6pm
DESCRIPTION:The vines are calling… \nOur Tasting Room is open to the public with cozy indoor seating\, sunny outdoor tables\, and a porch view that overlooks the pond and vineyard. \nCome find your Kefi! \nNote: Reservations are not required. For parties of 8 or more\, please call ahead!
URL:https://kefiwinery.com/events/tasting-room-open-12pm-6pm-9/
LOCATION:Kefi Estate Vineyards & Winery\, 3109 Plyler Mill Road\, Monroe\, NC\, 28112\, United States
ORGANIZER;CN="Kefi Winery":MAILTO:contact@kefiwinery.com
END:VEVENT
BEGIN:VEVENT
DTSTART;TZID=America/New_York:20260320T170000
DTEND;TZID=America/New_York:20260320T210000
DTSTAMP:20260423T162623
CREATED:20260209T194538Z
LAST-MODIFIED:20260302T222353Z
UID:21501-1774026000-1774040400@kefiwinery.com
SUMMARY:Kefi Fridays!
DESCRIPTION:Kefi Fridays are here! \nThis is our first year opening Friday nights\, and we’re turning up the fun with live music\, trivia\, karaoke\, charcuterie\, and of course—wine : ) \nCome kick off your weekend\, unwind\, and make it a Friday night tradition!
URL:https://kefiwinery.com/events/kefi-fridays-3/
LOCATION:Kefi Estate Vineyards & Winery\, 3109 Plyler Mill Road\, Monroe\, NC\, 28112\, United States
CATEGORIES:Kefi Fridays
END:VEVENT
BEGIN:VEVENT
DTSTART;TZID=America/New_York:20260321T120000
DTEND;TZID=America/New_York:20260321T180000
DTSTAMP:20260423T162623
CREATED:20260215T194515Z
LAST-MODIFIED:20260215T194515Z
UID:21517-1774094400-1774116000@kefiwinery.com
SUMMARY:Tasting Room Open 12pm-6pm
DESCRIPTION:The vines are calling… \nOur Tasting Room is open to the public with cozy indoor seating\, sunny outdoor tables\, and a porch view that overlooks the pond and vineyard. \nCome find your Kefi! \nNote: Reservations are not required. For parties of 8 or more\, please call ahead!
URL:https://kefiwinery.com/events/tasting-room-open-12pm-6pm-4/
LOCATION:Kefi Estate Vineyards & Winery\, 3109 Plyler Mill Road\, Monroe\, NC\, 28112\, United States
ORGANIZER;CN="Kefi Winery":MAILTO:contact@kefiwinery.com
END:VEVENT
BEGIN:VEVENT
DTSTART;TZID=America/New_York:20260322T120000
DTEND;TZID=America/New_York:20260322T180000
DTSTAMP:20260423T162623
CREATED:20260215T195039Z
LAST-MODIFIED:20260215T195039Z
UID:21529-1774180800-1774202400@kefiwinery.com
SUMMARY:Tasting Room Open 12pm-6pm
DESCRIPTION:The vines are calling… \nOur Tasting Room is open to the public with cozy indoor seating\, sunny outdoor tables\, and a porch view that overlooks the pond and vineyard. \nCome find your Kefi! \nNote: Reservations are not required. For parties of 8 or more\, please call ahead!
URL:https://kefiwinery.com/events/tasting-room-open-12pm-6pm-10/
LOCATION:Kefi Estate Vineyards & Winery\, 3109 Plyler Mill Road\, Monroe\, NC\, 28112\, United States
ORGANIZER;CN="Kefi Winery":MAILTO:contact@kefiwinery.com
END:VEVENT
BEGIN:VEVENT
DTSTART;TZID=America/New_York:20260328T120000
DTEND;TZID=America/New_York:20260328T180000
DTSTAMP:20260423T162623
CREATED:20260215T194605Z
LAST-MODIFIED:20260215T194605Z
UID:21519-1774699200-1774720800@kefiwinery.com
SUMMARY:Tasting Room Open 12pm-6pm
DESCRIPTION:The vines are calling… \nOur Tasting Room is open to the public with cozy indoor seating\, sunny outdoor tables\, and a porch view that overlooks the pond and vineyard. \nCome find your Kefi! \nNote: Reservations are not required. For parties of 8 or more\, please call ahead!
URL:https://kefiwinery.com/events/tasting-room-open-12pm-6pm-5/
LOCATION:Kefi Estate Vineyards & Winery\, 3109 Plyler Mill Road\, Monroe\, NC\, 28112\, United States
ORGANIZER;CN="Kefi Winery":MAILTO:contact@kefiwinery.com
END:VEVENT
BEGIN:VEVENT
DTSTART;TZID=America/New_York:20260329T120000
DTEND;TZID=America/New_York:20260329T180000
DTSTAMP:20260423T162623
CREATED:20260215T195119Z
LAST-MODIFIED:20260215T195119Z
UID:21531-1774785600-1774807200@kefiwinery.com
SUMMARY:Tasting Room Open 12pm-6pm
DESCRIPTION:The vines are calling… \nOur Tasting Room is open to the public with cozy indoor seating\, sunny outdoor tables\, and a porch view that overlooks the pond and vineyard. \nCome find your Kefi! \nNote: Reservations are not required. For parties of 8 or more\, please call ahead!
URL:https://kefiwinery.com/events/tasting-room-open-12pm-6pm-11/
LOCATION:Kefi Estate Vineyards & Winery\, 3109 Plyler Mill Road\, Monroe\, NC\, 28112\, United States
ORGANIZER;CN="Kefi Winery":MAILTO:contact@kefiwinery.com
END:VEVENT
BEGIN:VEVENT
DTSTART;TZID=America/New_York:20260403T170000
DTEND;TZID=America/New_York:20260403T210000
DTSTAMP:20260423T162623
CREATED:20260209T194804Z
LAST-MODIFIED:20260302T222359Z
UID:21503-1775235600-1775250000@kefiwinery.com
SUMMARY:Kefi Fridays!
DESCRIPTION:Kefi Fridays are here! \nThis is our first year opening Friday nights\, and we’re turning up the fun with live music\, trivia\, karaoke\, charcuterie\, and of course—wine : ) \nCome kick off your weekend\, unwind\, and make it a Friday night tradition!
URL:https://kefiwinery.com/events/kefi-fridays-4/
LOCATION:Kefi Estate Vineyards & Winery\, 3109 Plyler Mill Road\, Monroe\, NC\, 28112\, United States
CATEGORIES:Kefi Fridays
END:VEVENT
BEGIN:VEVENT
DTSTART;TZID=America/New_York:20260404T120000
DTEND;TZID=America/New_York:20260404T180000
DTSTAMP:20260423T162623
CREATED:20260215T194731Z
LAST-MODIFIED:20260215T194731Z
UID:21521-1775304000-1775325600@kefiwinery.com
SUMMARY:Tasting Room Open 12pm-6pm
DESCRIPTION:The vines are calling… \nOur Tasting Room is open to the public with cozy indoor seating\, sunny outdoor tables\, and a porch view that overlooks the pond and vineyard. \nCome find your Kefi! \nNote: Reservations are not required. For parties of 8 or more\, please call ahead!
URL:https://kefiwinery.com/events/tasting-room-open-12pm-6pm-6/
LOCATION:Kefi Estate Vineyards & Winery\, 3109 Plyler Mill Road\, Monroe\, NC\, 28112\, United States
ORGANIZER;CN="Kefi Winery":MAILTO:contact@kefiwinery.com
END:VEVENT
BEGIN:VEVENT
DTSTART;TZID=America/New_York:20260405T120000
DTEND;TZID=America/New_York:20260405T180000
DTSTAMP:20260423T162623
CREATED:20260215T195220Z
LAST-MODIFIED:20260215T195220Z
UID:21533-1775390400-1775412000@kefiwinery.com
SUMMARY:Tasting Room Open 12pm-6pm
DESCRIPTION:The vines are calling… \nOur Tasting Room is open to the public with cozy indoor seating\, sunny outdoor tables\, and a porch view that overlooks the pond and vineyard. \nCome find your Kefi! \nNote: Reservations are not required. For parties of 8 or more\, please call ahead!
URL:https://kefiwinery.com/events/tasting-room-open-12pm-6pm-12/
LOCATION:Kefi Estate Vineyards & Winery\, 3109 Plyler Mill Road\, Monroe\, NC\, 28112\, United States
ORGANIZER;CN="Kefi Winery":MAILTO:contact@kefiwinery.com
END:VEVENT
BEGIN:VEVENT
DTSTART;TZID=America/New_York:20260410T170000
DTEND;TZID=America/New_York:20260410T210000
DTSTAMP:20260423T162623
CREATED:20260402T141956Z
LAST-MODIFIED:20260402T141956Z
UID:21594-1775840400-1775854800@kefiwinery.com
SUMMARY:Kefi Friday's!
DESCRIPTION:Kefi Fridays are here! \nThis is our first year opening Friday nights\, and we’re turning up the fun with live music\, trivia\, karaoke\, charcuterie\, and of course—wine : ) \nCome kick off your weekend\, unwind\, and make it a Friday night tradition!
URL:https://kefiwinery.com/events/kefi-fridays-6/
LOCATION:Kefi Estate Vineyards & Winery\, 3109 Plyler Mill Road\, Monroe\, NC\, 28112\, United States
ORGANIZER;CN="Kefi Winery":MAILTO:contact@kefiwinery.com
END:VEVENT
BEGIN:VEVENT
DTSTART;TZID=America/New_York:20260411T120000
DTEND;TZID=America/New_York:20260411T180000
DTSTAMP:20260423T162623
CREATED:20260312T182633Z
LAST-MODIFIED:20260312T182633Z
UID:21577-1775908800-1775930400@kefiwinery.com
SUMMARY:Tasting Room Open 12-6pm
DESCRIPTION:The vines are calling… \nOur Tasting Room is open to the public with cozy indoor seating\, sunny outdoor tables\, and a porch view that overlooks the pond and vineyard. \nCome find your Kefi! \nNote: Reservations are not required. For parties of 8 or more\, please call ahead!
URL:https://kefiwinery.com/events/tasting-room-open-12-6pm/
LOCATION:Kefi Estate Vineyards & Winery\, 3109 Plyler Mill Road\, Monroe\, NC\, 28112\, United States
END:VEVENT
BEGIN:VEVENT
DTSTART;VALUE=DATE:20260412
DTEND;VALUE=DATE:20260413
DTSTAMP:20260423T162623
CREATED:20260312T182916Z
LAST-MODIFIED:20260312T182950Z
UID:21579-1775952000-1776038399@kefiwinery.com
SUMMARY:Tasting Room CLOSED for Orthodox Easter
DESCRIPTION:
URL:https://kefiwinery.com/events/tasting-room-closed-for-orthodox-easter/
LOCATION:Kefi Estate Vineyards & Winery\, 3109 Plyler Mill Road\, Monroe\, NC\, 28112\, United States
END:VEVENT
BEGIN:VEVENT
DTSTART;TZID=America/New_York:20260417T170000
DTEND;TZID=America/New_York:20260417T210000
DTSTAMP:20260423T162623
CREATED:20260402T141812Z
LAST-MODIFIED:20260402T141812Z
UID:21592-1776445200-1776459600@kefiwinery.com
SUMMARY:Kefi Friday's!
DESCRIPTION:Kefi Fridays are here! \nThis is our first year opening Friday nights\, and we’re turning up the fun with live music\, trivia\, karaoke\, charcuterie\, and of course—wine : ) \nCome kick off your weekend\, unwind\, and make it a Friday night tradition!
URL:https://kefiwinery.com/events/kefi-fridays-5/
LOCATION:Kefi Estate Vineyards & Winery\, 3109 Plyler Mill Road\, Monroe\, NC\, 28112\, United States
ORGANIZER;CN="Kefi Winery":MAILTO:contact@kefiwinery.com
END:VEVENT
BEGIN:VEVENT
DTSTART;TZID=America/New_York:20260418T120000
DTEND;TZID=America/New_York:20260418T180000
DTSTAMP:20260423T162623
CREATED:20260312T183031Z
LAST-MODIFIED:20260312T183031Z
UID:21581-1776513600-1776535200@kefiwinery.com
SUMMARY:Tasting Room Open 12pm-6pm
DESCRIPTION:The vines are calling… \nOur Tasting Room is open to the public with cozy indoor seating\, sunny outdoor tables\, and a porch view that overlooks the pond and vineyard. \nCome find your Kefi! \nNote: Reservations are not required. For parties of 8 or more\, please call ahead!
URL:https://kefiwinery.com/events/tasting-room-open-12pm-6pm-13/
LOCATION:Kefi Estate Vineyards & Winery\, 3109 Plyler Mill Road\, Monroe\, NC\, 28112\, United States
END:VEVENT
BEGIN:VEVENT
DTSTART;TZID=America/New_York:20260419T120000
DTEND;TZID=America/New_York:20260419T180000
DTSTAMP:20260423T162623
CREATED:20260312T183110Z
LAST-MODIFIED:20260312T183110Z
UID:21583-1776600000-1776621600@kefiwinery.com
SUMMARY:Tasting Room Open 12pm-6pm
DESCRIPTION:The vines are calling… \nOur Tasting Room is open to the public with cozy indoor seating\, sunny outdoor tables\, and a porch view that overlooks the pond and vineyard. \nCome find your Kefi! \nNote: Reservations are not required. For parties of 8 or more\, please call ahead!
URL:https://kefiwinery.com/events/tasting-room-open-12pm-6pm-14/
LOCATION:Kefi Estate Vineyards & Winery\, 3109 Plyler Mill Road\, Monroe\, NC\, 28112\, United States
END:VEVENT
BEGIN:VEVENT
DTSTART;TZID=America/New_York:20260424T170000
DTEND;TZID=America/New_York:20260424T210000
DTSTAMP:20260423T162623
CREATED:20260402T142218Z
LAST-MODIFIED:20260402T142218Z
UID:21596-1777050000-1777064400@kefiwinery.com
SUMMARY:Kefi Friday's!
DESCRIPTION:Kefi Fridays are here! \nThis is our first year opening Friday nights\, and we’re turning up the fun with live music\, trivia\, karaoke\, charcuterie\, and of course—wine : ) \nCome kick off your weekend\, unwind\, and make it a Friday night tradition!
URL:https://kefiwinery.com/events/kefi-fridays-7/
LOCATION:Kefi Estate Vineyards & Winery\, 3109 Plyler Mill Road\, Monroe\, NC\, 28112\, United States
ORGANIZER;CN="Kefi Winery":MAILTO:contact@kefiwinery.com
END:VEVENT
BEGIN:VEVENT
DTSTART;TZID=America/New_York:20260425T110000
DTEND;TZID=America/New_York:20260425T160000
DTSTAMP:20260423T162623
CREATED:20260206T162622Z
LAST-MODIFIED:20260206T220400Z
UID:21440-1777114800-1777132800@kefiwinery.com
SUMMARY:The Vineside Market: Spring Pop-Up Event
DESCRIPTION:Join us for our Spring Pop-Up Event – The Vineside Market\, hosted in collaboration with Sunny Day Markets!  \nEnjoy your favorite Kefi wines while browsing a curated mix of local food vendors\, handcrafted jewelry\, and other unique small-business finds! \nThink fresh blooms\, good music\, and of course\, sipping and shopping – winery style. : )
URL:https://kefiwinery.com/events/vineside-market/
LOCATION:Kefi Estate Vineyards & Winery\, 3109 Plyler Mill Road\, Monroe\, NC\, 28112\, United States
CATEGORIES:Pop-Up Markets
ATTACH;FMTTYPE=image/jpeg:https://kefiwinery.com/wp-content/uploads/2026/02/IMG_2045.jpeg
ORGANIZER;CN="Sunny Day Markets":MAILTO:montana@sunnydaymarkets.com
END:VEVENT
BEGIN:VEVENT
DTSTART;TZID=America/New_York:20260425T120000
DTEND;TZID=America/New_York:20260425T180000
DTSTAMP:20260423T162623
CREATED:20260312T183245Z
LAST-MODIFIED:20260312T183245Z
UID:21586-1777118400-1777140000@kefiwinery.com
SUMMARY:Tasting Room Open 12pm-6pm
DESCRIPTION:The vines are calling… \nOur Tasting Room is open to the public with cozy indoor seating\, sunny outdoor tables\, and a porch view that overlooks the pond and vineyard. \nCome find your Kefi! \nNote: Reservations are not required. For parties of 8 or more\, please call ahead!
URL:https://kefiwinery.com/events/tasting-room-open-12pm-6pm-15/
LOCATION:Kefi Estate Vineyards & Winery\, 3109 Plyler Mill Road\, Monroe\, NC\, 28112\, United States
END:VEVENT
BEGIN:VEVENT
DTSTART;TZID=America/New_York:20260426T120000
DTEND;TZID=America/New_York:20260426T180000
DTSTAMP:20260423T162623
CREATED:20260312T183430Z
LAST-MODIFIED:20260312T183430Z
UID:21588-1777204800-1777226400@kefiwinery.com
SUMMARY:Tasting Room Open 12pm-6pm
DESCRIPTION:The vines are calling… \nOur Tasting Room is open to the public with cozy indoor seating\, sunny outdoor tables\, and a porch view that overlooks the pond and vineyard. \nCome find your Kefi! \nNote: Reservations are not required. For parties of 8 or more\, please call ahead!
URL:https://kefiwinery.com/events/tasting-room-open-12pm-6pm-16/
LOCATION:Kefi Estate Vineyards & Winery\, 3109 Plyler Mill Road\, Monroe\, NC\, 28112\, United States
END:VEVENT
BEGIN:VEVENT
DTSTART;TZID=America/New_York:20260501T170000
DTEND;TZID=America/New_York:20260501T210000
DTSTAMP:20260423T162623
CREATED:20260402T142521Z
LAST-MODIFIED:20260402T142521Z
UID:21598-1777654800-1777669200@kefiwinery.com
SUMMARY:Kefi Friday's!
DESCRIPTION:Kefi Fridays are here! \nThis is our first year opening Friday nights\, and we’re turning up the fun with live music\, trivia\, karaoke\, charcuterie\, and of course—wine : ) \nCome kick off your weekend\, unwind\, and make it a Friday night tradition!
URL:https://kefiwinery.com/events/kefi-fridays-8/
LOCATION:Kefi Estate Vineyards & Winery\, 3109 Plyler Mill Road\, Monroe\, NC\, 28112\, United States
ORGANIZER;CN="Kefi Winery":MAILTO:contact@kefiwinery.com
END:VEVENT
END:VCALENDAR