BEGIN:VCALENDAR
VERSION:2.0
PRODID:-//Kefi Vineyards &amp; Winery - ECPv6.15.15//NONSGML v1.0//EN
CALSCALE:GREGORIAN
METHOD:PUBLISH
X-WR-CALNAME:Kefi Vineyards &amp; Winery
X-ORIGINAL-URL:https://kefiwinery.com
X-WR-CALDESC:Events for Kefi Vineyards &amp; Winery
REFRESH-INTERVAL;VALUE=DURATION:PT1H
X-Robots-Tag:noindex
X-PUBLISHED-TTL:PT1H
BEGIN:VTIMEZONE
TZID:America/New_York
BEGIN:DAYLIGHT
TZOFFSETFROM:-0500
TZOFFSETTO:-0400
TZNAME:EDT
DTSTART:20250309T070000
END:DAYLIGHT
BEGIN:STANDARD
TZOFFSETFROM:-0400
TZOFFSETTO:-0500
TZNAME:EST
DTSTART:20251102T060000
END:STANDARD
BEGIN:DAYLIGHT
TZOFFSETFROM:-0500
TZOFFSETTO:-0400
TZNAME:EDT
DTSTART:20260308T070000
END:DAYLIGHT
BEGIN:STANDARD
TZOFFSETFROM:-0400
TZOFFSETTO:-0500
TZNAME:EST
DTSTART:20261101T060000
END:STANDARD
BEGIN:DAYLIGHT
TZOFFSETFROM:-0500
TZOFFSETTO:-0400
TZNAME:EDT
DTSTART:20270314T070000
END:DAYLIGHT
BEGIN:STANDARD
TZOFFSETFROM:-0400
TZOFFSETTO:-0500
TZNAME:EST
DTSTART:20271107T060000
END:STANDARD
END:VTIMEZONE
BEGIN:VEVENT
DTSTART;VALUE=DATE:20260412
DTEND;VALUE=DATE:20260413
DTSTAMP:20260423T112032
CREATED:20260312T182916Z
LAST-MODIFIED:20260312T182950Z
UID:21579-1775952000-1776038399@kefiwinery.com
SUMMARY:Tasting Room CLOSED for Orthodox Easter
DESCRIPTION:
URL:https://kefiwinery.com/events/tasting-room-closed-for-orthodox-easter/
LOCATION:Kefi Estate Vineyards & Winery\, 3109 Plyler Mill Road\, Monroe\, NC\, 28112\, United States
END:VEVENT
END:VCALENDAR