BEGIN:VCALENDAR
VERSION:2.0
PRODID:-//Kefi Vineyards &amp; Winery - ECPv6.15.15//NONSGML v1.0//EN
CALSCALE:GREGORIAN
METHOD:PUBLISH
X-WR-CALNAME:Kefi Vineyards &amp; Winery
X-ORIGINAL-URL:https://kefiwinery.com
X-WR-CALDESC:Events for Kefi Vineyards &amp; Winery
REFRESH-INTERVAL;VALUE=DURATION:PT1H
X-Robots-Tag:noindex
X-PUBLISHED-TTL:PT1H
BEGIN:VTIMEZONE
TZID:America/New_York
BEGIN:DAYLIGHT
TZOFFSETFROM:-0500
TZOFFSETTO:-0400
TZNAME:EDT
DTSTART:20250309T070000
END:DAYLIGHT
BEGIN:STANDARD
TZOFFSETFROM:-0400
TZOFFSETTO:-0500
TZNAME:EST
DTSTART:20251102T060000
END:STANDARD
BEGIN:DAYLIGHT
TZOFFSETFROM:-0500
TZOFFSETTO:-0400
TZNAME:EDT
DTSTART:20260308T070000
END:DAYLIGHT
BEGIN:STANDARD
TZOFFSETFROM:-0400
TZOFFSETTO:-0500
TZNAME:EST
DTSTART:20261101T060000
END:STANDARD
BEGIN:DAYLIGHT
TZOFFSETFROM:-0500
TZOFFSETTO:-0400
TZNAME:EDT
DTSTART:20270314T070000
END:DAYLIGHT
BEGIN:STANDARD
TZOFFSETFROM:-0400
TZOFFSETTO:-0500
TZNAME:EST
DTSTART:20271107T060000
END:STANDARD
END:VTIMEZONE
BEGIN:VEVENT
DTSTART;TZID=America/New_York:20260306T170000
DTEND;TZID=America/New_York:20260306T210000
DTSTAMP:20260423T123432
CREATED:20260206T161346Z
LAST-MODIFIED:20260302T231902Z
UID:21478-1772816400-1772830800@kefiwinery.com
SUMMARY:Kefi Fridays!
DESCRIPTION:Kefi Fridays are here! This is our first year opening Friday nights\, and we’re turning up the fun with live music\, trivia\, karaoke\, charcuterie\, and of course—wine.  \nCome kick off your weekend\, unwind\, and make it a Friday night tradition!
URL:https://kefiwinery.com/events/kefi-fridays/
LOCATION:Kefi Estate Vineyards & Winery\, 3109 Plyler Mill Road\, Monroe\, NC\, 28112\, United States
CATEGORIES:Kefi Fridays
ATTACH;FMTTYPE=image/png:https://kefiwinery.com/wp-content/uploads/2026/02/KefiFridays.png
END:VEVENT
END:VCALENDAR